BEGIN:VCALENDAR
VERSION:2.0
PRODID:-//ChamberMaster//Event Calendar 2.0//EN
METHOD:PUBLISH
X-PUBLISHED-TTL:P3D
REFRESH-INTERVAL:P3D
CALSCALE:GREGORIAN
BEGIN:VEVENT
DTSTART:20160317T210000Z
DTEND:20160318T000000Z
X-MICROSOFT-CDO-ALLDAYEVENT:FALSE
SUMMARY:Saint Patty's Pint Night
DESCRIPTION:Ticketed closed door event.\n\nTicket includes...\n\nCorned Beef Sandwich and Potato Soup\n\n1 pint of Irish Ale with dinner\n\n1 Liter of Irish Ale to go.\n\nAdditional pints available for purchase.
X-ALT-DESC;FMTTYPE=text/html:<span style="font-size: 12pt\;"><span style="font-family: times new roman\,serif\;">Ticketed closed door event.<br />\nTicket includes...<br />\nCorned Beef Sandwich and Potato Soup<br />\n1 pint of Irish Ale with dinner<br />\n1 Liter of Irish Ale to go.<br />\nAdditional pints available for purchase.</span></span><br />\n<br />\n&nbsp\;
LOCATION:At the Old 5&10\, Blairsville\, Georgia
UID:e.256.50399
SEQUENCE:3
DTSTAMP:20260421T040114Z
URL:https://members.visitblairsvillega.com/events/details/saint-patty-s-pint-night-03-17-2016-50399
END:VEVENT

END:VCALENDAR
