BEGIN:VCALENDAR
VERSION:2.0
PRODID:-//ChamberMaster//Event Calendar 2.0//EN
METHOD:PUBLISH
X-PUBLISHED-TTL:P3D
REFRESH-INTERVAL:P3D
CALSCALE:GREGORIAN
BEGIN:VEVENT
DTSTART:20150321T140000Z
DTEND:20150321T140000Z
X-MICROSOFT-CDO-ALLDAYEVENT:FALSE
SUMMARY:Sale of Misc. Farm Equipment
DESCRIPTION:Sale of Miscellaneous Farm Equipment by Union County High School FFA\; Saturday\, March 21\, 2015 10:00 AM at Union County Farmers Market\; Consignments Accepted: Anyone Can Buy or Sell\; SALE TO INCLUDE MISC. FARM EQUIPMENT\; EQUIPMENT MAY BE CHECKED IN STARTING THE WEDNESDAY PRIOR TO THE SALE BETWEEN THE HOURS OF 1:00 PM AND 6:00 PM\; COMMISSION RATE IS FIGURED ON EACH ITEM\, 10% ACROSS THE BOARD\, $750 MAXIMUM COMMISSION PER ITEM. UNION COUNTY SCHOOLS\, UNION COUNTY FFA\, BLUE AND GOLD AUCTIONS OR UNION COUNTY FARMERS MARKET ARE NOT RESPONSIBLE FOR ACCIDENTS\, INJURIES\, OR THEFT. ALL PURCHASES MUST BE SETTLED PRIOR TO LOADOUT.
X-ALT-DESC;FMTTYPE=text/html:Sale of Miscellaneous Farm Equipment by Union County High School FFA\; Saturday\, March 21\, 2015 10:00 AM at Union County Farmers Market\; Consignments Accepted: Anyone Can Buy or Sell\; SALE TO INCLUDE MISC. FARM EQUIPMENT\; EQUIPMENT MAY BE CHECKED IN STARTING THE WEDNESDAY PRIOR TO THE SALE BETWEEN THE HOURS OF 1:00 PM AND 6:00 PM\; COMMISSION RATE IS FIGURED ON EACH ITEM\, 10% ACROSS THE BOARD\, $750 MAXIMUM COMMISSION PER ITEM. UNION COUNTY SCHOOLS\, UNION COUNTY FFA\, BLUE AND GOLD AUCTIONS OR UNION COUNTY FARMERS MARKET ARE NOT RESPONSIBLE FOR ACCIDENTS\, INJURIES\, OR THEFT. ALL PURCHASES MUST BE SETTLED PRIOR TO LOADOUT.
LOCATION:Union County Farmers Market 148 Old Smokey Road Blairsville\, GA 30512
UID:e.256.37684
SEQUENCE:3
DTSTAMP:20260423T212432Z
URL:https://members.visitblairsvillega.com/events/details/sale-of-misc-farm-equipment-03-21-2015-37684
END:VEVENT

END:VCALENDAR
