BEGIN:VCALENDAR
VERSION:2.0
PRODID:-//ChamberMaster//Event Calendar 2.0//EN
METHOD:PUBLISH
X-PUBLISHED-TTL:P3D
REFRESH-INTERVAL:P3D
CALSCALE:GREGORIAN
BEGIN:VEVENT
DTSTART:20150515T230000Z
DTEND:20150516T010000Z
X-MICROSOFT-CDO-ALLDAYEVENT:FALSE
SUMMARY:Sam Gleaves at John C. Campbell Folk School
DESCRIPTION:Sam Gleaves - young southwest Virginia native shares mountain love songs & dance tunes
X-ALT-DESC;FMTTYPE=text/html:<div>Sam Gleaves - young southwest Virginia native shares mountain love songs &amp\; dance tunes</div>\n
LOCATION:Community Room at John C. Campbell Folk School Brasstown\, NC 28902
UID:e.256.37731
SEQUENCE:3
DTSTAMP:20260423T182500Z
URL:https://members.visitblairsvillega.com/events/details/sam-gleaves-at-john-c-campbell-folk-school-05-15-2015-37731
END:VEVENT

END:VCALENDAR
