BEGIN:VCALENDAR
VERSION:2.0
PRODID:-//ChamberMaster//Event Calendar 2.0//EN
METHOD:PUBLISH
X-PUBLISHED-TTL:P3D
REFRESH-INTERVAL:P3D
CALSCALE:GREGORIAN
BEGIN:VEVENT
DTSTART:20151212T160000Z
DTEND:20151212T180000Z
X-MICROSOFT-CDO-ALLDAYEVENT:FALSE
SUMMARY:Santa Claus at Cabin Coffee
DESCRIPTION:Santa Claus is coming to the Cabin on Saturday December 12th to visit with the children.  He will tell stories and have a treat for each child.  Join us from 11:00 to 1:00!
X-ALT-DESC;FMTTYPE=text/html:Santa Claus is coming to the Cabin on Saturday December 12th to visit with the children.&nbsp\; He will tell stories and have a treat for each child.&nbsp\; Join us from 11:00 to 1:00!
LOCATION:Cabin Coffee of Blairsville 44A Town Square
UID:e.256.45154
SEQUENCE:3
DTSTAMP:20260421T074346Z
URL:https://members.visitblairsvillega.com/events/details/santa-claus-at-cabin-coffee-12-12-2015-45154
END:VEVENT

END:VCALENDAR
