BEGIN:VCALENDAR
VERSION:2.0
PRODID:-//ChamberMaster//Event Calendar 2.0//EN
METHOD:PUBLISH
X-PUBLISHED-TTL:P3D
REFRESH-INTERVAL:P3D
CALSCALE:GREGORIAN
BEGIN:VEVENT
DTSTART:20151219T170000Z
DTEND:20151219T200000Z
X-MICROSOFT-CDO-ALLDAYEVENT:FALSE
SUMMARY:Santa Claus at Dunkin Donuts
DESCRIPTION:Santa Claus is coming to town!  Come and visit with Santa at the new Dunkin Donuts.
X-ALT-DESC;FMTTYPE=text/html:Santa Claus is coming to town!&nbsp\; Come and visit with Santa at the new Dunkin Donuts.
LOCATION:Marathon Gas Station 16 Bracketts Way Blairsville\, GA 30512
UID:e.256.45342
SEQUENCE:3
DTSTAMP:20260421T074152Z
URL:https://members.visitblairsvillega.com/events/details/santa-claus-at-dunkin-donuts-12-19-2015-45342
END:VEVENT

END:VCALENDAR
