BEGIN:VCALENDAR
VERSION:2.0
PRODID:-//ChamberMaster//Event Calendar 2.0//EN
METHOD:PUBLISH
X-PUBLISHED-TTL:P3D
REFRESH-INTERVAL:P3D
CALSCALE:GREGORIAN
BEGIN:VEVENT
DTSTART:20151118T190000Z
DTEND:20151118T220000Z
X-MICROSOFT-CDO-ALLDAYEVENT:FALSE
SUMMARY:Santa Day at Community & Southern Bank
DESCRIPTION:COMMUNITY & SOUTHERN BANK WILL BE HAVING SANTA CLAUSE COME BY FOR A VISIT. HAVE YOUR PICTURE TAKEN WITH SANTA ALONG WITH REFRESHMENTS.
X-ALT-DESC;FMTTYPE=text/html:COMMUNITY &amp\; SOUTHERN BANK WILL BE HAVING SANTA CLAUSE COME BY FOR A VISIT. HAVE YOUR PICTURE TAKEN WITH SANTA ALONG WITH REFRESHMENTS.
LOCATION:COMMUNITY & SOUTHERN BANK 271 HWY 515W BLAIRSVILLE GA 30512
UID:e.256.44998
SEQUENCE:3
DTSTAMP:20260423T085805Z
URL:https://members.visitblairsvillega.com/events/details/santa-day-at-community-southern-bank-11-18-2015-44998
END:VEVENT

END:VCALENDAR
