BEGIN:VCALENDAR
VERSION:2.0
PRODID:-//ChamberMaster//Event Calendar 2.0//EN
METHOD:PUBLISH
X-PUBLISHED-TTL:P3D
REFRESH-INTERVAL:P3D
CALSCALE:GREGORIAN
BEGIN:VEVENT
DTSTART:20141123T190000Z
DTEND:20141123T210000Z
X-MICROSOFT-CDO-ALLDAYEVENT:FALSE
SUMMARY:Santa visits North Georgia Zoo
DESCRIPTION:SANTA COMING TO THE ZOO\n\nNOVEMBER 23rd from 2-4pm!\n\nGET YOUR PICTURE WITH SANTA! High quality or emailed photos: $5 & up. Pictures printed or emailed on site! Meet the little Miniature Reindeer!
X-ALT-DESC;FMTTYPE=text/html:SANTA COMING TO THE ZOO<br />\nNOVEMBER 23rd from 2-4pm!<br />\nGET YOUR PICTURE WITH SANTA! High quality or emailed photos: $5 &amp\; up. Pictures printed or emailed on site! Meet the little Miniature Reindeer!
LOCATION:North Georgia Zoo 2912 Paradise Valley Road Cleveland\, GA
UID:e.256.27949
SEQUENCE:3
DTSTAMP:20260424T033845Z
URL:https://members.visitblairsvillega.com/events/details/santa-visits-north-georgia-zoo-11-23-2014-27949
END:VEVENT

END:VCALENDAR
