BEGIN:VCALENDAR
VERSION:2.0
PRODID:-//ChamberMaster//Event Calendar 2.0//EN
METHOD:PUBLISH
X-PUBLISHED-TTL:P3D
REFRESH-INTERVAL:P3D
CALSCALE:GREGORIAN
BEGIN:VEVENT
DTSTART:20170321T220000Z
DTEND:20170322T000000Z
X-MICROSOFT-CDO-ALLDAYEVENT:FALSE
SUMMARY:Sass 'n Saddles Team Fundraiser
DESCRIPTION:The young ladies of Sass 'n Saddles Precision Drill Team are gearing up for the 2017 Show Season and they would love YOUR support!! Join us for an evening of fun and fashion featuring Premier Designs Jewelry by Alysia Hargus and the Drill Team will receive 25% of the jewelry sales from this event to competition expenses\, as well as the purchase new show attire and and team tack for 2017. PLEASE RSVP with Alysia Hargus @ (706) 994-9711. Can't Make It But Want To Support Sass 'n Saddles 2017 Show Season?? Browse Premier Designs Online Jewelry Collection at the webpage below: AlysiaHargus.MyPremierDesigns.com Please contact any one of the team parents or Alysia Hargus of Premier Designs Jewelry with your order before March 21st. (706) 994-9711 Email: premierdesignsbyalysia@gmail.com
X-ALT-DESC;FMTTYPE=text/html:The young ladies of Sass &lsquo\;n Saddles Precision Drill Team are gearing up for the 2017 Show Season and they would love YOUR support!! Join us for an evening of fun and fashion featuring Premier Designs Jewelry by Alysia Hargus and the Drill Team will receive 25% of the jewelry sales from this event to competition expenses\, as well as the purchase new show attire and and team tack for 2017. PLEASE RSVP with Alysia Hargus @ (706) 994-9711. Can&rsquo\;t Make It But Want To Support Sass &lsquo\;n Saddles 2017 Show Season?? Browse Premier Designs Online Jewelry Collection at the webpage below: AlysiaHargus.MyPremierDesigns.com Please contact any one of the team parents or Alysia Hargus of Premier Designs Jewelry with your order before March 21st. (706) 994-9711 Email: premierdesignsbyalysia@gmail.com
LOCATION:Butternut Creek Golf Course - downstairs meeting room 20 Union County Rec Road\, Blairsville\, GA
UID:e.256.69153
SEQUENCE:3
DTSTAMP:20260420T055847Z
URL:https://members.visitblairsvillega.com/events/details/sass-n-saddles-team-fundraiser-69153
END:VEVENT

END:VCALENDAR
