BEGIN:VCALENDAR
VERSION:2.0
PRODID:-//ChamberMaster//Event Calendar 2.0//EN
METHOD:PUBLISH
X-PUBLISHED-TTL:P3D
REFRESH-INTERVAL:P3D
CALSCALE:GREGORIAN
BEGIN:VEVENT
DTSTART:20140607T220000Z
DTEND:20140608T003000Z
X-MICROSOFT-CDO-ALLDAYEVENT:FALSE
SUMMARY:Saturday Wine & Paint Party
DESCRIPTION:Saturday Wine and Paint party at Inspire Art Studio. Special couples date\, byob\, snacks provided but feel free to bring your own to share. We will paint wine bottles and glasses but that's where the similarity ends. You'll have a stencil to get the shapes right but the backgrounds and filling in outlines will challenge your colorful creativity and teamwork. So get ready to play and create a fun memory together!
X-ALT-DESC;FMTTYPE=text/html:Saturday Wine and Paint party at Inspire Art Studio. Special couples date\, byob\, snacks provided but feel free to bring your own to share. We will paint wine bottles and glasses but that&#39\;s where the similarity ends. You&#39\;ll have a stencil to get the shapes right but the backgrounds and filling in outlines will challenge your colorful creativity and teamwork. So get ready to play and create a fun memory together!<br />\n&nbsp\;
LOCATION:Inspire Art Studio 51 Earnest St. Suite C
UID:e.256.24601
SEQUENCE:3
DTSTAMP:20260424T105031Z
URL:https://members.visitblairsvillega.com/events/details/saturday-wine-paint-party-06-07-2014-24601
END:VEVENT

END:VCALENDAR
