BEGIN:VCALENDAR
VERSION:2.0
PRODID:-//ChamberMaster//Event Calendar 2.0//EN
METHOD:PUBLISH
X-PUBLISHED-TTL:P3D
REFRESH-INTERVAL:P3D
CALSCALE:GREGORIAN
BEGIN:VEVENT
DTSTART:20170513T230000Z
DTEND:20170514T023000Z
X-MICROSOFT-CDO-ALLDAYEVENT:FALSE
SUMMARY:Sawyer Brown and Little Texas in Concert
DESCRIPTION:Sawyer Brown and Little Texas in concert at the Georgia Mountain Fairgrounds in Hiawassee\, GA
X-ALT-DESC;FMTTYPE=text/html:Sawyer Brown and Little Texas in concert at the Georgia Mountain Fairgrounds in Hiawassee\, GA
LOCATION:Georgia Mountain Fairgrounds 1311 Music Hall Road Hiawassee\, GA 30546
UID:e.256.63241
SEQUENCE:3
DTSTAMP:20260420T024522Z
URL:https://members.visitblairsvillega.com/events/details/sawyer-brown-and-little-texas-in-concert-63241
END:VEVENT

END:VCALENDAR
