BEGIN:VCALENDAR
VERSION:2.0
PRODID:-//ChamberMaster//Event Calendar 2.0//EN
METHOD:PUBLISH
X-PUBLISHED-TTL:P3D
REFRESH-INTERVAL:P3D
CALSCALE:GREGORIAN
BEGIN:VEVENT
DTSTART:20160628T153000Z
DTEND:20160628T170000Z
X-MICROSOFT-CDO-ALLDAYEVENT:FALSE
SUMMARY:SBDC Credit Qualification for Business Loans
DESCRIPTION:Ever wonder what do lenders see when reviewing a business loan application? Or how do they make a decision? Or what are your best chances for approval? This is the class for you! Learn about the 5 C's of credit. Register for this lunch & learn as seating is limited.
X-ALT-DESC;FMTTYPE=text/html:<div _mce_style="text-align: center\;" align="center" style="text-align: center\;"><span>Ever wonder what do lenders see when reviewing a business loan application? Or how do they make a decision? Or what are your best chances for approval? This is the class for you! Learn about the 5 C&rsquo\;s of credit. Register for this lunch &amp\; learn as seating is limited.</span></div>\n
LOCATION:Jackson EMC 1000 Dawsonville Hwy Gainesville\, GA
UID:e.256.52988
SEQUENCE:3
DTSTAMP:20260420T222905Z
URL:https://members.visitblairsvillega.com/events/details/sbdc-credit-qualification-for-business-loans-06-28-2016-52988
END:VEVENT

END:VCALENDAR
