BEGIN:VCALENDAR
VERSION:2.0
PRODID:-//ChamberMaster//Event Calendar 2.0//EN
METHOD:PUBLISH
X-PUBLISHED-TTL:P3D
REFRESH-INTERVAL:P3D
CALSCALE:GREGORIAN
BEGIN:VEVENT
DTSTART:20151024T140000Z
DTEND:20151024T210000Z
X-MICROSOFT-CDO-ALLDAYEVENT:FALSE
SUMMARY:School Scarecrow Display
DESCRIPTION:The Reece Farm and Heritage Center is hosting a School Scarecrow Display.  For more information call 706-745-2034 or visit their website at http://reecefarm.org/
X-ALT-DESC;FMTTYPE=text/html:The Reece Farm and Heritage Center is hosting&nbsp\;a School Scarecrow Display.&nbsp\; For more information call 706-745-2034 or visit their website at <a href="http://reecefarm.org/">http://reecefarm.org/</a>
LOCATION:The Reece Farm and Heritage Center is located at 8552 Gainesville Hwy\, Blairsville Georgia.
UID:e.256.41304
SEQUENCE:3
DTSTAMP:20260423T102458Z
URL:https://members.visitblairsvillega.com/events/details/school-scarecrow-display-10-24-2015-41304
END:VEVENT

END:VCALENDAR
