BEGIN:VCALENDAR
VERSION:2.0
PRODID:-//ChamberMaster//Event Calendar 2.0//EN
METHOD:PUBLISH
X-PUBLISHED-TTL:P3D
REFRESH-INTERVAL:P3D
CALSCALE:GREGORIAN
BEGIN:VEVENT
DTSTART:20150806T153000Z
DTEND:20150806T170000Z
X-MICROSOFT-CDO-ALLDAYEVENT:FALSE
SUMMARY:SCORE DYI Security Lunch & Learn
DESCRIPTION:The Blairsville-Union County Chamber will co-host a  \n\nLunch & Learn with Towns County Chamber on   \n\n\n\n\nThursday\, August 6th  \n\n11:30am - 1:00pm \n                                     Union County Community Center\n\n                                     129 Union County Recreation Rd. \n\n \nIn this modern age it is impossible to protect against all security threats. A free security audit will be offered and NO individual products will be offered\, sold or endorsed as a part of this Lunch and Learn or in any audits. This  informative seminar will be presented by Joe Ruff of SCORE.\n\n\n\nParticipants will be encouraged to DO IT Yourself (DIY) with the tools and information you are provided.\n\n\n\nThe cost of this Lunch & Learn is $15 and a light lunch will be provided. Take advantage of this invaluable information and register today!
X-ALT-DESC;FMTTYPE=text/html:<div>\n<div _mce_style="text-align: center\;" align="center" style="text-align: center\;">The Blairsville-Union County Chamber will co-host a &nbsp\;</div>\n\n<div _mce_style="text-align: center\;" align="center" style="text-align: center\;">Lunch &amp\; Learn with Towns County Chamber on&nbsp\;&nbsp\;&nbsp\;</div>\n</div>\n\n<div _mce_style="text-align: center\;" align="center" style="text-align: center\;"><br />\n<strong>Thursday\, August 6th &nbsp\;</strong></div>\n\n<div _mce_style="text-align: center\;" align="center" style="text-align: center\;"><strong>11:30am - 1:00pm&nbsp\;</strong></div>\n<strong>&nbsp\;&nbsp\;&nbsp\;&nbsp\;&nbsp\;&nbsp\;&nbsp\;&nbsp\;&nbsp\;&nbsp\;&nbsp\;&nbsp\;&nbsp\;&nbsp\;&nbsp\;&nbsp\;&nbsp\;&nbsp\;&nbsp\;&nbsp\;&nbsp\;&nbsp\;&nbsp\;&nbsp\;&nbsp\;&nbsp\;&nbsp\;&nbsp\;&nbsp\;&nbsp\;&nbsp\;&nbsp\;&nbsp\;&nbsp\;&nbsp\;&nbsp\; Union County Community Center<br />\n&nbsp\;&nbsp\;&nbsp\;&nbsp\;&nbsp\;&nbsp\;&nbsp\;&nbsp\;&nbsp\;&nbsp\;&nbsp\;&nbsp\;&nbsp\;&nbsp\;&nbsp\;&nbsp\;&nbsp\;&nbsp\;&nbsp\;&nbsp\;&nbsp\;&nbsp\;&nbsp\;&nbsp\;&nbsp\;&nbsp\;&nbsp\;&nbsp\;&nbsp\;&nbsp\;&nbsp\;&nbsp\;&nbsp\;&nbsp\;&nbsp\;&nbsp\; 129 Union County Recreation Rd. </strong><br />\n&nbsp\;\n<div _mce_style="text-align: left\;" align="left" style="text-align: left\;">In this modern age it is impossible to protect against all security threats. A free security audit will be offered and NO individual products will be offered\, sold or endorsed as a part of this Lunch and Learn or in any audits. <span>This&nbsp\; informative seminar will be presented by Joe Ruff of SCORE.</span><br />\n<br />\nParticipants will be encouraged to DO IT Yourself (DIY) with the tools and information you are provided.<br />\n<br />\nThe cost of this Lunch &amp\; Learn is $15 and a light lunch will be provided. Take advantage of this invaluable information and register today!</div>\n
LOCATION:Union County Community Center 129 Union County Recreation Rd.
UID:e.256.41250
SEQUENCE:3
DTSTAMP:20260423T150944Z
URL:https://members.visitblairsvillega.com/events/details/score-dyi-security-lunch-learn-08-06-2015-41250
END:VEVENT

END:VCALENDAR
