BEGIN:VCALENDAR
VERSION:2.0
PRODID:-//ChamberMaster//Event Calendar 2.0//EN
METHOD:PUBLISH
X-PUBLISHED-TTL:P3D
REFRESH-INTERVAL:P3D
CALSCALE:GREGORIAN
BEGIN:VEVENT
DTSTART:20151006T190000Z
DTEND:20151006T200000Z
X-MICROSOFT-CDO-ALLDAYEVENT:FALSE
SUMMARY:Scotland Travel Presentation
DESCRIPTION:You are invited to a special travel informational presentation for our community trip to Scotland the Fall of 2016! This 10 day trip will be start September 26\, 2016. Come and discover the opportunity to go on this amazing trip!
X-ALT-DESC;FMTTYPE=text/html:You are invited to a special travel informational presentation for our community trip to Scotland the Fall of 2016! This 10 day trip will be start September 26\, 2016. Come and discover the opportunity to go on this amazing trip!
LOCATION:Union County Community Center 129 Union County Rec. Rd. Blairsville\, GA
UID:e.256.44216
SEQUENCE:3
DTSTAMP:20260423T102850Z
URL:https://members.visitblairsvillega.com/events/details/scotland-travel-presentation-10-06-2015-44216
END:VEVENT

END:VCALENDAR
