BEGIN:VCALENDAR
VERSION:2.0
PRODID:-//ChamberMaster//Event Calendar 2.0//EN
METHOD:PUBLISH
X-PUBLISHED-TTL:P3D
REFRESH-INTERVAL:P3D
CALSCALE:GREGORIAN
BEGIN:VEVENT
DTSTART:20150808T150000Z
DTEND:20150808T213000Z
X-MICROSOFT-CDO-ALLDAYEVENT:FALSE
SUMMARY:Scrabble Tournament
DESCRIPTION:Cabin Coffee is proud to host the Union County Inter-Agency Group's annual Scrabble Tournament on Saturday\, August 8th.  Participation cost is $10.  Registration is the day of the event starting at 11:00 a.m.  The tournament starts at 12:30 p.m.  Board games and dictionaries are provided and a grand prize will be awarded.  All proceeds for the tournament go to Union County Inter-Agency Group and S.A.F.E.   Please join us at Cabin Coffee.
X-ALT-DESC;FMTTYPE=text/html:Cabin Coffee is proud to host the Union County Inter-Agency Group&#39\;s&nbsp\;annual Scrabble Tournament on Saturday\, August 8th.&nbsp\; Participation cost is $10.&nbsp\; Registration is the day of the event starting at 11:00 a.m.&nbsp\; The tournament starts at 12:30 p.m.&nbsp\; Board games and dictionaries are provided and a grand prize will be awarded.&nbsp\; All proceeds for the tournament go to Union County Inter-Agency Group and S.A.F.E.&nbsp\;&nbsp\; Please join us at Cabin Coffee.
LOCATION:44A Town Square Blairsville\, GA
UID:e.256.41291
SEQUENCE:3
DTSTAMP:20260423T133806Z
URL:https://members.visitblairsvillega.com/events/details/scrabble-tournament-08-08-2015-41291
END:VEVENT

END:VCALENDAR
