BEGIN:VCALENDAR
VERSION:2.0
PRODID:-//ChamberMaster//Event Calendar 2.0//EN
METHOD:PUBLISH
X-PUBLISHED-TTL:P3D
REFRESH-INTERVAL:P3D
CALSCALE:GREGORIAN
BEGIN:VEVENT
DTSTART:20160305T233000Z
DTEND:20160306T043000Z
X-MICROSOFT-CDO-ALLDAYEVENT:FALSE
SUMMARY:Seabee Ball
DESCRIPTION:This event will celebrate the establishment of the Navy Construction battalions in 1942\, their contributions to our Country ever since and the Service of all Veterans. Dinner will be served.
X-ALT-DESC;FMTTYPE=text/html:<span lang="EN" style="font-family: &quot\;Open Sans&quot\;\; font-size: 10.5pt\; mso-fareast-font-family: Calibri\; mso-fareast-theme-font: minor-latin\; mso-bidi-font-family: &quot\;Times New Roman&quot\;\; mso-ansi-language: EN\; mso-fareast-language: EN-US\; mso-bidi-language: AR-SA\;"><font color="#000000">This event will celebrate the establishment of the Navy Construction battalions in 1942\, their contributions to our Country ever since and the Service of all Veterans.&nbsp\;Dinner will be served.</font></span>
LOCATION:Union County Community Center\, Blairsville Georgia
UID:e.256.49823
SEQUENCE:3
DTSTAMP:20260421T035729Z
URL:https://members.visitblairsvillega.com/events/details/seabee-ball-03-05-2016-49823
END:VEVENT

END:VCALENDAR
