BEGIN:VCALENDAR
VERSION:2.0
PRODID:-//ChamberMaster//Event Calendar 2.0//EN
METHOD:PUBLISH
X-PUBLISHED-TTL:P3D
REFRESH-INTERVAL:P3D
CALSCALE:GREGORIAN
BEGIN:VEVENT
DTSTART:20160603T190000Z
DTEND:20160603T210000Z
X-MICROSOFT-CDO-ALLDAYEVENT:FALSE
SUMMARY:Seafood Festival - North Georgia Highlands
DESCRIPTION:Come and enjoy the festivities at the North Georgia Highlands Seafood Festival.  There will be a great variety of seafood vendors together with live music and arts & crafts.  Free parking.
X-ALT-DESC;FMTTYPE=text/html:Come and enjoy the festivities at the North Georgia Highlands Seafood Festival.&nbsp\; There will be a great variety of seafood vendors together with live music and arts &amp\; crafts.&nbsp\; Free parking.
LOCATION:Mayors Park\, Highway 76\, Young Harris\, Georgia
UID:e.256.51267
SEQUENCE:3
DTSTAMP:20260420T204559Z
URL:https://members.visitblairsvillega.com/events/details/seafood-festival-north-georgia-highlands-06-03-2016-51267
END:VEVENT

END:VCALENDAR
