BEGIN:VCALENDAR
VERSION:2.0
PRODID:-//ChamberMaster//Event Calendar 2.0//EN
METHOD:PUBLISH
X-PUBLISHED-TTL:P3D
REFRESH-INTERVAL:P3D
CALSCALE:GREGORIAN
BEGIN:VEVENT
DTSTART:20161211T160000Z
DTEND:20161211T170000Z
X-MICROSOFT-CDO-ALLDAYEVENT:FALSE
SUMMARY:Season of Wonder
DESCRIPTION:Filled with classic carols as well as newly composed anthems\, this hopeful work shines new light upon the miracles surrounding the birth of Jesus. In performing this work\, different "messengers" announce the various narrations. Miracles and wonders are meant to be shared. The events that unfold are a series of wonders that are meant to be shared with the world so all may know the good news! Includes: Come Thou Long Expected Jesus\; O Holy Night\; Rejoice\, All Ye Daughters and many more. The First United Methodist Church choir is led by Jeffrey Bauman\, Minister of Music and Keith DeFoor\, organist.
X-ALT-DESC;FMTTYPE=text/html:Filled with classic carols as well as newly composed anthems\, this hopeful work shines new light upon the miracles surrounding the birth of Jesus. In performing this work\, different &quot\;messengers&quot\; announce the various narrations. Miracles and wonders are meant to be shared. The events that unfold are a series of wonders that are meant to be shared with the world so all may know the good news! Includes: Come Thou Long Expected Jesus\; O Holy Night\; Rejoice\, All Ye Daughters and many more. The First United Methodist Church choir is led by Jeffrey Bauman\, Minister of Music and Keith DeFoor\, organist.
LOCATION:First UMC is located at 938 HWY 515 across from Meeks Park
UID:e.256.60686
SEQUENCE:3
DTSTAMP:20260420T094007Z
URL:https://members.visitblairsvillega.com/events/details/season-of-wonder-60686
END:VEVENT

END:VCALENDAR
