BEGIN:VCALENDAR
VERSION:2.0
PRODID:-//ChamberMaster//Event Calendar 2.0//EN
METHOD:PUBLISH
X-PUBLISHED-TTL:P3D
REFRESH-INTERVAL:P3D
CALSCALE:GREGORIAN
BEGIN:VEVENT
DTSTART:20160123T000000Z
DTEND:20160123T030000Z
X-MICROSOFT-CDO-ALLDAYEVENT:FALSE
SUMMARY:Season Opener: The Sock Hops
DESCRIPTION:Let's kick the season off with a drive down memory lane as The Sock Hops perform hits from all your favorite songs of the '50s\, '60s\, and '70s. Specializing in four-part harmonies\, The Sock Hops will have you singing along as they bring all the great classic hits to the stage\, including "Why Do Fools Fall in Love?" "At the Hop\," "Sherry\," "The Lion Sleeps Tonight\," and "Come Go With Me." http://www.greatmountainmusic.com/eventdetail.asp?t=i&m=1&d=22&y=2016&evt=1
X-ALT-DESC;FMTTYPE=text/html:Let&#39\;s kick the season off with a drive down memory lane as The Sock Hops perform hits from all your favorite songs of the &#39\;50s\, &#39\;60s\, and &#39\;70s. Specializing in four-part harmonies\, The Sock Hops will have you singing along as they bring all the great classic hits to the stage\, including &quot\;Why Do Fools Fall in Love?&quot\; &quot\;At the Hop\,&quot\; &quot\;Sherry\,&quot\; &quot\;The Lion Sleeps Tonight\,&quot\; and &quot\;Come Go With Me.&quot\; http://www.greatmountainmusic.com/eventdetail.asp?t=i&amp\;m=1&amp\;d=22&amp\;y=2016&amp\;evt=1
LOCATION:Smoky Mountain Center for the Performing Arts 1028 Georgia Road Franklin\, NC 28734
UID:e.256.45183
SEQUENCE:3
DTSTAMP:20260421T055910Z
URL:https://members.visitblairsvillega.com/events/details/season-opener-the-sock-hops-01-22-2016-45183
END:VEVENT

END:VCALENDAR
