BEGIN:VCALENDAR
VERSION:2.0
PRODID:-//ChamberMaster//Event Calendar 2.0//EN
METHOD:PUBLISH
X-PUBLISHED-TTL:P3D
REFRESH-INTERVAL:P3D
CALSCALE:GREGORIAN
BEGIN:VEVENT
DTSTART;VALUE=DATE:20140823
DTEND;VALUE=DATE:20140824
TRANSP:TRANSPARENT
X-MICROSOFT-CDO-ALLDAYEVENT:TRUE
SUMMARY:Second Annual Twilight Rock n Roll 5k
DESCRIPTION:Too hot to race in August? Then please mark your calendar for the 23rd of August for the second annual Twilight Rock n Roll 5k here in beautiful Highlands NC. High up in the mountains of North Carolina where the temperature rarely gets above 80 degrees in the summer\, evening in August will be a "cool" time to race. Race starts at 6:00 PM at Kelsey Hutchison Park. Registration and check-in on race day starts at 4PM. We will have music by Copious Jones after the race and glow sticks for the kids. Every finisher gets a beer from The Ugly Dog Pub. It will be a great party! We look forward to seeing you there. Cost is $30.00\, register before July 23rd and it's $25.00! Day of race will be $35.00. First 100 participants will get a T-shirt. Please register with the button below which will put you directly in our race timing software. Proceeds will go to the running track improvement project for Highlands School. Any questions please contact Michael Johnson at 828-526-4114 or Derek Taylor 828-526-3571. Please check us out at our website and to register http://www.twilightrocknroll5k.com.
X-ALT-DESC;FMTTYPE=text/html:Too hot to race in August? Then please mark your calendar for the 23rd of August for the second annual Twilight Rock n Roll 5k here in beautiful Highlands NC. High up in the mountains of North Carolina where the temperature rarely gets above 80 degrees in the summer\, evening in August will be a &quot\;cool&quot\; time to race. <strong>Race starts at 6:00 PM at Kelsey Hutchison Park. Registration </strong>and <strong>check-in on race day starts at 4PM</strong>. We will have music by Copious Jones after the race and glow sticks for the kids. Every finisher gets a beer from The Ugly Dog Pub. It will be a great party! We look forward to seeing you there. <strong>Cost is $30.00\, register before July 23rd and it&#39\;s $25.00! Day of race will be $35.00.</strong> First 100 participants will get a T-shirt. Please register with the button below which will put you directly in our race timing software. Proceeds will go to the running track improvement project for Highlands School. Any questions please contact Michael Johnson at 828-526-4114 or Derek Taylor 828-526-3571. Please check us out at our website and to register <u><strong>http://www.twilightrocknroll5k.com</strong></u>.<br />\n&nbsp\;
LOCATION:Kelsey Hutchison Park Highlands NC
UID:e.256.24899
SEQUENCE:3
DTSTAMP:20260424T073558Z
URL:https://members.visitblairsvillega.com/events/details/second-annual-twilight-rock-n-roll-5k-08-23-2014-24899
END:VEVENT

END:VCALENDAR
