BEGIN:VCALENDAR
VERSION:2.0
PRODID:-//ChamberMaster//Event Calendar 2.0//EN
METHOD:PUBLISH
X-PUBLISHED-TTL:P3D
REFRESH-INTERVAL:P3D
CALSCALE:GREGORIAN
BEGIN:VEVENT
DTSTART:20151001T163000Z
DTEND:20151001T173000Z
X-MICROSOFT-CDO-ALLDAYEVENT:FALSE
SUMMARY:Secrets for Taking Care of Your Immune System
DESCRIPTION:This months topic is the "Immune System". Learn how to build your immunity. Allergies\, Pneumonia even Diabetes are affected by your immune system. Receive sample oils\, experience these secrets first hand. If you have ever wanted to learn how to manage some of your health challenges and avoid getting new ones\, this is an important hour to spend with us.
X-ALT-DESC;FMTTYPE=text/html:This months topic is the &quot\;Immune System&quot\;. Learn how to build your immunity. Allergies\, Pneumonia even Diabetes are affected by your immune system. Receive sample oils\, experience these secrets first hand. If you have ever wanted to learn how to manage some of your health challenges and avoid getting new ones\, this is an important hour to spend with us.
LOCATION:215 Blue Ridge Street Blairsville\, GA (next to Curves in the Highlands Plaza)
UID:e.256.44214
SEQUENCE:3
DTSTAMP:20260423T103021Z
URL:https://members.visitblairsvillega.com/events/details/secrets-for-taking-care-of-your-immune-system-10-01-2015-44214
END:VEVENT

END:VCALENDAR
