BEGIN:VCALENDAR
VERSION:2.0
PRODID:-//ChamberMaster//Event Calendar 2.0//EN
METHOD:PUBLISH
X-PUBLISHED-TTL:P3D
REFRESH-INTERVAL:P3D
CALSCALE:GREGORIAN
BEGIN:VEVENT
DTSTART:20150507T163000Z
DTEND:20150507T173000Z
X-MICROSOFT-CDO-ALLDAYEVENT:FALSE
SUMMARY:Secrets for Taking Care of Your Own Health
DESCRIPTION:If you have ever wanted to learn how to manage some of your aches\, pains\, and avoid getting new ones\, this is an important hour to spend with us.  Monthly classes are offered where you discover secrets of acurpressure\, essential oils\, exercises\, and more.  $5 fee
X-ALT-DESC;FMTTYPE=text/html:If you have ever wanted to learn how to manage some of your aches\, pains\, and avoid getting new ones\, this is an important hour to spend with us.&nbsp\; Monthly classes are offered where you discover secrets of acurpressure\, essential oils\, exercises\, and more.&nbsp\; $5 fee
LOCATION:215 Blue Ridge Street Suite E (next to Curves)
UID:e.256.40150
SEQUENCE:3
DTSTAMP:20260423T182816Z
URL:https://members.visitblairsvillega.com/events/details/secrets-for-taking-care-of-your-own-health-05-07-2015-40150
END:VEVENT

END:VCALENDAR
