BEGIN:VCALENDAR
VERSION:2.0
PRODID:-//ChamberMaster//Event Calendar 2.0//EN
METHOD:PUBLISH
X-PUBLISHED-TTL:P3D
REFRESH-INTERVAL:P3D
CALSCALE:GREGORIAN
BEGIN:VEVENT
DTSTART:20151203T173000Z
DTEND:20151203T183000Z
X-MICROSOFT-CDO-ALLDAYEVENT:FALSE
SUMMARY:Secrets for Taking Care of Your Respiratory System
DESCRIPTION:Secrets for Taking Care of Your Own Health!\n\nThis months topic is the "Respiratory System" You will learn many ways to address: Asthma\, Bronchitis\, Congestion\, Flu\, Laryngitis\, Runny Nose\, Sinus Infection\, Strep and Tonsillitis.\n\n\n\n$5 fee - Reserve your spot since seating is limited. 706-781-4048.\n\n\n\nTeri Stokes\, ND and Steven Senart\, DC
X-ALT-DESC;FMTTYPE=text/html:<strong>Secrets for Taking Care of Your Own Health!<br />\nThis months topic is the &quot\;Respiratory System&quot\; You will learn many ways to address: Asthma\, Bronchitis\, Congestion\, Flu\, Laryngitis\, Runny Nose\, Sinus Infection\, Strep and Tonsillitis.<br />\n<br />\n$5 fee - Reserve your spot since seating is limited. 706-781-4048.<br />\n<br />\nTeri Stokes\, ND and Steven Senart\, DC</strong><br />\n&nbsp\;
LOCATION:New Address: 64 Bracketts Way\, Suite 9 Blairsville\, GA 30512
UID:e.256.45116
SEQUENCE:3
DTSTAMP:20260421T074509Z
URL:https://members.visitblairsvillega.com/events/details/secrets-for-taking-care-of-your-respiratory-system-12-03-2015-45116
END:VEVENT

END:VCALENDAR
