BEGIN:VCALENDAR
VERSION:2.0
PRODID:-//ChamberMaster//Event Calendar 2.0//EN
METHOD:PUBLISH
X-PUBLISHED-TTL:P3D
REFRESH-INTERVAL:P3D
CALSCALE:GREGORIAN
BEGIN:VEVENT
DTSTART:20150402T163000Z
DTEND:20150402T173000Z
X-MICROSOFT-CDO-ALLDAYEVENT:FALSE
SUMMARY:Secrets for Taking of Your Own Health
DESCRIPTION:If you have ever wanted to learn how to manage some of your aches\, pains and avoid getting new ones\, this is an important hour to spend with us. Monthly classes are offered where you discover secrets of acupressure\, essential oils\, exercises\, nutrition and much more. This months topic is the "Nervous System". Learn how to avoid Alzheimers\, dementia\, what to do about carpal tunnel and other problems that are affected by the nerves. You will receive sample oils and experience first hand how these secrests work. There is a $5 fee and RSVP 706-781-4048. Space is limited.
X-ALT-DESC;FMTTYPE=text/html:If you have ever wanted to learn how to manage some of your aches\, pains and avoid getting new ones\, this is an important hour to spend with us. Monthly classes are offered where you discover secrets of acupressure\, essential oils\, exercises\, nutrition and much more. This months topic is the &quot\;Nervous System&quot\;. Learn how to avoid Alzheimers\, dementia\, what to do about carpal tunnel and other problems that are affected by the nerves. You will receive sample oils and experience first hand how these secrests work. There is a $5 fee and RSVP 706-781-4048. Space is limited.
LOCATION:215 Blue Ridge Street in Highlands Plaza next to Curves
UID:e.256.37745
SEQUENCE:3
DTSTAMP:20260423T200535Z
URL:https://members.visitblairsvillega.com/events/details/secrets-for-taking-of-your-own-health-04-02-2015-37745
END:VEVENT

END:VCALENDAR
