BEGIN:VCALENDAR
VERSION:2.0
PRODID:-//ChamberMaster//Event Calendar 2.0//EN
METHOD:PUBLISH
X-PUBLISHED-TTL:P3D
REFRESH-INTERVAL:P3D
CALSCALE:GREGORIAN
BEGIN:VEVENT
DTSTART:20140813T170000Z
DTEND:20140813T190000Z
X-MICROSOFT-CDO-ALLDAYEVENT:FALSE
SUMMARY:Senior Art & Painting Class
DESCRIPTION:Some call it art\, some call it therapy. Ellie has taught Art Therapy and recreational senior classes in Savannah for years and now teaches at Inspire Art Studio in Blairsville. Open to all seniors!
X-ALT-DESC;FMTTYPE=text/html:Some call it art\, some call it therapy. Ellie has taught Art Therapy and recreational senior classes in Savannah for years and now teaches at Inspire Art Studio in Blairsville. Open to all seniors!
LOCATION:Branan Lodge 493 Wesley Mountain Dr. Blairsville 493 Wesley Mountain Drive 493 Wesley Mountain Drive 493 Wesley Mountain Drive
UID:e.256.25573
SEQUENCE:3
DTSTAMP:20260424T073649Z
URL:https://members.visitblairsvillega.com/events/details/senior-art-painting-class-08-13-2014-25573
END:VEVENT

END:VCALENDAR
