BEGIN:VCALENDAR
VERSION:2.0
PRODID:-//ChamberMaster//Event Calendar 2.0//EN
METHOD:PUBLISH
X-PUBLISHED-TTL:P3D
REFRESH-INTERVAL:P3D
CALSCALE:GREGORIAN
BEGIN:VEVENT
DTSTART:20170505T230000Z
DTEND:20170506T013000Z
X-MICROSOFT-CDO-ALLDAYEVENT:FALSE
SUMMARY:Senior Follies
DESCRIPTION:The Macon County Senior Follies is the performing arts category of the NC Senior Games. Open to any permanent resident of Macon County over the age of 55\, the Senior Follies is a fun and exciting evening of local talent. Enjoy singing\, dancing\, comedy\, poetry\, instruments\, and more as the winner of the gold medal and the change to perform at the state level is announced. For more information on being a participant\, contact the Macon County Recreation Department.
X-ALT-DESC;FMTTYPE=text/html:The Macon County Senior Follies is the performing arts category of the NC Senior Games. Open to any permanent resident of Macon County over the age of 55\, the Senior Follies is a fun and exciting evening of local talent. Enjoy singing\, dancing\, comedy\, poetry\, instruments\, and more as the winner of the gold medal and the change to perform at the state level is announced. For more information on being a participant\, contact the Macon County Recreation Department.
LOCATION:Smoky Mountain Center for the Performing Arts 1028 Georgia Road Franklin\, NC 28734
UID:e.256.69049
SEQUENCE:3
DTSTAMP:20260420T023933Z
URL:https://members.visitblairsvillega.com/events/details/senior-follies-69049
END:VEVENT

END:VCALENDAR
