BEGIN:VCALENDAR
VERSION:2.0
PRODID:-//ChamberMaster//Event Calendar 2.0//EN
METHOD:PUBLISH
X-PUBLISHED-TTL:P3D
REFRESH-INTERVAL:P3D
CALSCALE:GREGORIAN
BEGIN:VEVENT
DTSTART:20160603T130000Z
DTEND:20160603T160000Z
X-MICROSOFT-CDO-ALLDAYEVENT:FALSE
SUMMARY:Seniors Fishing Rodeo
DESCRIPTION:Free event open to adults ages 55 and older. Fish for beautiful Rainbow Trout in Rock Creek. Bring your own fishing gear and bait.
X-ALT-DESC;FMTTYPE=text/html:<span style="font-family: &quot\;Calibri&quot\;\,&quot\;sans-serif&quot\;\; font-size: 11pt\; mso-fareast-font-family: Calibri\; mso-fareast-theme-font: minor-latin\; mso-bidi-font-family: &quot\;Times New Roman&quot\;\; mso-ansi-language: EN-US\; mso-fareast-language: EN-US\; mso-bidi-language: AR-SA\;"><font color="#000000">Free event open to adults ages 55 and older. Fish for beautiful Rainbow Trout in Rock Creek. Bring your own fishing gear and bait. </font></span>
LOCATION:Chattahoochee Forest National Fish Hatchery located on Rock Creek Road off GA Hwy 60 near Suches.
UID:e.256.48298
SEQUENCE:3
DTSTAMP:20260420T204126Z
URL:https://members.visitblairsvillega.com/events/details/seniors-fishing-rodeo-06-03-2016-48298
END:VEVENT

END:VCALENDAR
