BEGIN:VCALENDAR
VERSION:2.0
PRODID:-//ChamberMaster//Event Calendar 2.0//EN
METHOD:PUBLISH
X-PUBLISHED-TTL:P3D
REFRESH-INTERVAL:P3D
CALSCALE:GREGORIAN
BEGIN:VEVENT
DTSTART:20140606T130000Z
DTEND:20140606T160000Z
X-MICROSOFT-CDO-ALLDAYEVENT:FALSE
SUMMARY:Seniors Fishing Rodeo
DESCRIPTION:The Seniors Fishing Rodeo is a free event open to adults ages 55 and older and will be held rain or shine. Bring your own fishing gear and bait and join us for an exciting morning of fishing Rock Creek for trout stocked especially for this event.
X-ALT-DESC;FMTTYPE=text/html:The Seniors Fishing Rodeo is a free event open to adults ages 55 and older and will be held rain or shine. Bring your own fishing gear and bait and join us for an exciting morning of fishing Rock Creek for trout stocked especially for this event.
LOCATION:Chattahoochee Forest National Fish Hatchery located on Rock Creek Road off of GA Hwy 60 near Suches\, GA. Please call if need directions 706-838-4723.
UID:e.256.20581
SEQUENCE:3
DTSTAMP:20260424T105350Z
URL:https://members.visitblairsvillega.com/events/details/seniors-fishing-rodeo-06-06-2014-20581
END:VEVENT

END:VCALENDAR
