BEGIN:VCALENDAR
VERSION:2.0
PRODID:-//ChamberMaster//Event Calendar 2.0//EN
METHOD:PUBLISH
X-PUBLISHED-TTL:P3D
REFRESH-INTERVAL:P3D
CALSCALE:GREGORIAN
BEGIN:VEVENT
DTSTART:20170414T223000Z
DTEND:20170415T010000Z
X-MICROSOFT-CDO-ALLDAYEVENT:FALSE
SUMMARY:Seven Sayings Of The Cross
DESCRIPTION:SEVEN PREACHERS - EACH PREACHER WILL PREACH ON ONE OF THE SEVEN SAYINGS CHRIST SAID ON THE CROSS.
X-ALT-DESC;FMTTYPE=text/html:SEVEN PREACHERS - EACH PREACHER WILL PREACH ON ONE OF THE SEVEN SAYINGS CHRIST SAID ON THE CROSS.
LOCATION:Fairview Baptist Church
UID:e.256.69974
SEQUENCE:3
DTSTAMP:20260420T024322Z
URL:https://members.visitblairsvillega.com/events/details/seven-sayings-of-the-cross-69974
END:VEVENT

END:VCALENDAR
