BEGIN:VCALENDAR
VERSION:2.0
PRODID:-//ChamberMaster//Event Calendar 2.0//EN
METHOD:PUBLISH
X-PUBLISHED-TTL:P3D
REFRESH-INTERVAL:P3D
CALSCALE:GREGORIAN
BEGIN:VEVENT
DTSTART:20150420T210000Z
DTEND:20150421T000000Z
X-MICROSOFT-CDO-ALLDAYEVENT:FALSE
SUMMARY:Sexual Assault and Child Abuse Awareness Fundraiser
DESCRIPTION:Stop in and visit with volunteers and representatives from S.A.F.E.\, Inc. (Support in Abusive Family Services) at Zaxby's in Blairsville.  April is Sexual Assault and Child Abuse Awareness month and we are promoting awareness and serving it up with delicious chicken dishes.  Zaxby's has agreed to donate a portion of their proceeds to your local S.A.F.E.\, Inc.  Here at S.A.F.E.\, we offer free services to victims of sexual abuse whether it be adults or children.  We have an outstanding team dedicated to serving our community.  We are a non for profit organization and depend on the generous donations from our community and government funding.  So please come out and support a local organization that serves our community with a tireless effort.  It's for a good cause!!
X-ALT-DESC;FMTTYPE=text/html:Stop in and visit with volunteers and representatives from S.A.F.E.\, Inc. (Support in Abusive Family Services) at Zaxby&#39\;s in Blairsville. &nbsp\;April is Sexual Assault and Child Abuse Awareness month and we are promoting awareness and serving it up with delicious chicken dishes. &nbsp\;Zaxby&#39\;s has agreed to donate a portion of their proceeds to your local S.A.F.E.\, Inc. &nbsp\;Here at S.A.F.E.\, we offer free services to victims of sexual abuse whether it be adults or children. &nbsp\;We have an outstanding team dedicated to serving our community. &nbsp\;We are a non for profit organization and depend on the generous donations from our community and government funding. &nbsp\;So please come out and support a local organization that serves our community with a tireless effort. &nbsp\;It&#39\;s for a good cause!!
LOCATION:Zaxby's of Blairsville
UID:e.256.37879
SEQUENCE:3
DTSTAMP:20260423T200536Z
URL:https://members.visitblairsvillega.com/events/details/sexual-assault-and-child-abuse-awareness-fundraiser-04-20-2015-37879
END:VEVENT

END:VCALENDAR
