BEGIN:VCALENDAR
VERSION:2.0
PRODID:-//ChamberMaster//Event Calendar 2.0//EN
METHOD:PUBLISH
X-PUBLISHED-TTL:P3D
REFRESH-INTERVAL:P3D
CALSCALE:GREGORIAN
BEGIN:VEVENT
DTSTART:20160918T210000Z
DTEND:20160918T230000Z
X-MICROSOFT-CDO-ALLDAYEVENT:FALSE
SUMMARY:Shady Grove UMC Third Sunday Singing
DESCRIPTION:This event included congregational singing of old and new hymns for the young and old.  Individuals and singing groups from the area may participate in this monthly event.  Refreshment will be served and community is invited.
X-ALT-DESC;FMTTYPE=text/html:This event included congregational singing of old and new hymns for the young and old.&nbsp\; Individuals and singing groups from the area may participate in this monthly event.&nbsp\; Refreshment will be served and community is invited.
LOCATION:Shady Grove UMC 1604 Owltown Road Blairsville\, GA 30512
UID:e.256.46176
SEQUENCE:3
DTSTAMP:20260420T144414Z
URL:https://members.visitblairsvillega.com/events/details/shady-grove-umc-third-sunday-singing-09-18-2016-46176
END:VEVENT

END:VCALENDAR
