BEGIN:VCALENDAR
VERSION:2.0
PRODID:-//ChamberMaster//Event Calendar 2.0//EN
METHOD:PUBLISH
X-PUBLISHED-TTL:P3D
REFRESH-INTERVAL:P3D
CALSCALE:GREGORIAN
BEGIN:VEVENT
DTSTART:20150712T143000Z
DTEND:20150712T160000Z
X-MICROSOFT-CDO-ALLDAYEVENT:FALSE
SUMMARY:Shady Grove United Methodist Church "Homecoming"
DESCRIPTION:A "Homecoming" celebration will be held at the church with a musical performance done by our own Tommy Townsend at 10:30 a.m. and an 11 a.m. worship service provided by Rev. James Hughes.
X-ALT-DESC;FMTTYPE=text/html:<p style="line-height: normal\; font-family: Tahoma\; font-size: 12px\; margin-right: 0px\; margin-bottom: 5px\; margin-left: 0px\; -webkit-text-stroke-color: rgb(0\, 0\, 0)\; -webkit-text-stroke-width: initial\;">A &ldquo\;Homecoming&rdquo\; celebration will be held&nbsp\;at the church with a musical performance done by our own Tommy Townsend at 10:30 a.m. and&nbsp\;an 11 a.m.&nbsp\;worship service&nbsp\;provided by Rev. James Hughes.</p>\n\n<p style="line-height: normal\; font-family: Tahoma\; font-size: 12px\; margin-right: 0px\; margin-bottom: 0px\; margin-left: 0px\; -webkit-text-stroke-color: rgb(0\, 0\, 0)\; -webkit-text-stroke-width: initial\;">&nbsp\;</p>\n
LOCATION:Shady Grove United Methodist Church 1604 Owltown Road Blairsville\, GA
UID:e.256.40867
SEQUENCE:3
DTSTAMP:20260423T151607Z
URL:https://members.visitblairsvillega.com/events/details/shady-grove-united-methodist-church-homecoming-07-12-2015-40867
END:VEVENT

END:VCALENDAR
