BEGIN:VCALENDAR
VERSION:2.0
PRODID:-//ChamberMaster//Event Calendar 2.0//EN
METHOD:PUBLISH
X-PUBLISHED-TTL:P3D
REFRESH-INTERVAL:P3D
CALSCALE:GREGORIAN
BEGIN:VEVENT
DTSTART:20140712T143000Z
DTEND:20140712T190000Z
X-MICROSOFT-CDO-ALLDAYEVENT:FALSE
SUMMARY:Shape Note Singing
DESCRIPTION:The Folk School's annual singing draws more\n\nthan 70 singers from four states! Originally\n\npublished in 1866\, William Walker's Christian\n\nHarmony is the oldest seven-  shape collection\n\nto have remained in continuous use\, primarily\n\nin Western North Carolina and North Georgia.\n\n\n\nPot luck "Dinner on the Grounds" 12:30 P.M.\n\nThe Folk School will supply coffee\, iced tea\, ice\,\n\nplates\, cups and plastic utensils.
X-ALT-DESC;FMTTYPE=text/html:The Folk School&#39\;s annual singing draws more<br />\nthan 70 singers from four states! Originally<br />\npublished in 1866\, William Walker&#39\;s Christian<br />\nHarmony is the oldest seven-&shy\;&#8208\;shape collection<br />\nto have remained in continuous use\, primarily<br />\nin Western North Carolina and North Georgia.<br />\n<br />\nPot luck &ldquo\;Dinner on the Grounds&rdquo\; 12:30 P.M.<br />\nThe Folk School will supply coffee\, iced tea\, ice\,<br />\nplates\, cups and plastic utensils.<br />\n<br />\n&nbsp\;
LOCATION:Music Studio in Davidson Hall John C. Campbell Folk School One Folk School Road Brasstown\, NC 28902
UID:e.256.24805
SEQUENCE:3
DTSTAMP:20260424T091406Z
URL:https://members.visitblairsvillega.com/events/details/shape-note-singing-07-12-2014-24805
END:VEVENT

END:VCALENDAR
