BEGIN:VCALENDAR
VERSION:2.0
PRODID:-//ChamberMaster//Event Calendar 2.0//EN
METHOD:PUBLISH
X-PUBLISHED-TTL:P3D
REFRESH-INTERVAL:P3D
CALSCALE:GREGORIAN
BEGIN:VEVENT
DTSTART:20141020T223000Z
DTEND:20141020T233000Z
X-MICROSOFT-CDO-ALLDAYEVENT:FALSE
SUMMARY:Shape Note Singing Practice
DESCRIPTION:Now's your opportunity to learn the mountain tradition of shape note singing. Jack Parker teaches the nuances of shape note singing with the 7-note scale.\n\n			\n\n			When churches had no instruments\, singing masters chose songs from a shaped-note songbook and led the congregation in reading and singing the notes.\n\n			\n\n			Here in Union County the tradition of shape note gospel has been kept alive by the Union County Singing Convention.  In 2010\, in conjunction with the Historical Society\, a singing school was taught by Jack Parker. From that school a singing practice is held every second Thursday in the Old Courthouse.\n\n			\n\n			Beginners and listeners are welcome!
X-ALT-DESC;FMTTYPE=text/html:<div>\n	<div>\n		<div style="margin: 0in 0in 0pt\;">\n			<span style="font-family: arial\;"><span style="font-size: 12px\;"><span style="line-height: 115%\;">Now&rsquo\;s your opportunity to learn the mountain tradition of shape note singing. Jack Parker teaches the&nbsp\;nuances of shape note singing with the 7-note scale.</span></span></span><br />\n			<br />\n			<span style="font-family: arial\;"><span style="font-size: 12px\;"><span style="line-height: 115%\;">When churches had no instruments\, singing masters chose songs from a shaped-note songbook and led the congregation&nbsp\;in reading and singing the notes.<br />\n			<br />\n			Here in Union County&nbsp\;the&nbsp\;tradition of&nbsp\;shape note&nbsp\;gospel has been kept alive by the Union County Singing Convention.&nbsp\;&nbsp\;In 2010\, in conjunction with the Historical Society\,&nbsp\;a singing school was taught by Jack Parker. From that school a singing practice is held every second Thursday in the Old Courthouse.<br />\n			<br />\n			<span style="font-size: 14px\;">Beginners and listeners are welcome!&nbsp\;</span>&nbsp\;&nbsp\;<font color="#e6e6e6" size="5">&nbsp\;</font>&nbsp\;&nbsp\;</span></span></span></div>\n	</div>\n</div>\n
LOCATION:Old Union County Courthouse in the Courtroom One Town Square Blairsville\, GA
UID:e.256.20515
SEQUENCE:3
DTSTAMP:20260424T045032Z
URL:https://members.visitblairsvillega.com/events/details/shape-note-singing-practice-10-20-2014-20515
END:VEVENT

END:VCALENDAR
