BEGIN:VCALENDAR
VERSION:2.0
PRODID:-//ChamberMaster//Event Calendar 2.0//EN
METHOD:PUBLISH
X-PUBLISHED-TTL:P3D
REFRESH-INTERVAL:P3D
CALSCALE:GREGORIAN
BEGIN:VEVENT
DTSTART:20140223T173000Z
DTEND:20140223T173000Z
X-MICROSOFT-CDO-ALLDAYEVENT:FALSE
SUMMARY:Share the Love...Celebrate HOPE!!!
DESCRIPTION:Share the Love... ...Celebrate HOPE!!\n\nJewelry Show Fundraiser for FUMC Relay for Life! Join Melinda Weldon and FUMC Children's Ministry for fun\, fellowship and fashion!! I will share my love of Premier Designs Jewelry with an Opportunity for YOU to Celebrate Hope by Raising Money for FUMC 2014 Relay for Life Team!! Sunday\, February 23rd @ 12:30pm (following 11:00 Services) FUMC FELLOWSHIP HALL in Blairsville\, GA
X-ALT-DESC;FMTTYPE=text/html:Share the Love... ...Celebrate HOPE!!<br />\nJewelry Show Fundraiser for FUMC Relay for Life! Join Melinda Weldon and FUMC Children&#39\;s Ministry for fun\, fellowship and fashion!! I will share my love of Premier Designs Jewelry with an Opportunity for YOU to Celebrate Hope by Raising Money for FUMC 2014 Relay for Life Team!! Sunday\, February 23rd @ 12:30pm (following 11:00 Services) FUMC FELLOWSHIP HALL in Blairsville\, GA 
LOCATION:FUMC Fellowship Hall First United Methodist Church of Union County 938 Hwy 515 Blairsville\, GA
UID:e.256.23043
SEQUENCE:3
DTSTAMP:20260424T165046Z
URL:https://members.visitblairsvillega.com/events/details/share-the-love-celebrate-hope-02-23-2014-23043
END:VEVENT

END:VCALENDAR
