BEGIN:VCALENDAR
VERSION:2.0
PRODID:-//ChamberMaster//Event Calendar 2.0//EN
METHOD:PUBLISH
X-PUBLISHED-TTL:P3D
REFRESH-INTERVAL:P3D
CALSCALE:GREGORIAN
BEGIN:VEVENT
DTSTART:20170811T233000Z
DTEND:20170812T013000Z
X-MICROSOFT-CDO-ALLDAYEVENT:FALSE
SUMMARY:Shenandoah
DESCRIPTION:When country music lovers talk about the greatest groups in the genre\, Shenandoah is always at the forefront of any discussion. Fueled by Marty Raybon's distinctive vocals and the band's skilled musicianship\, Shenandoah became well known for delivering such hits as "Two Dozen Roses\," "Church on Cumberland Road" and "Next to You\, Next to Me" as well as such achingly beautiful classics as "I Want to be Loved Like That" and the Grammy winning "Somewhere in the Vicinity of the Heart" duet with Alison Krauss. Today that legacy continues as original members Raybon and Mike McGuire reunite to launch a new chapter in Shenandoah's storied career. "We are really proud of the quality of the material that we have in our catalog and how it's touched so many people's lives\," McGuire says. "As far as the future goes\, I'm expecting more of the same."
X-ALT-DESC;FMTTYPE=text/html:When country music lovers talk about the greatest groups in the genre\, Shenandoah is always at the forefront of any discussion. Fueled by Marty Raybon&#39\;s distinctive vocals and the band&#39\;s skilled musicianship\, Shenandoah became well known for delivering such hits as &quot\;Two Dozen Roses\,&quot\; &quot\;Church on Cumberland Road&quot\; and &quot\;Next to You\, Next to Me&quot\; as well as such achingly beautiful classics as &quot\;I Want to be Loved Like That&quot\; and the Grammy winning &quot\;Somewhere in the Vicinity of the Heart&quot\; duet with Alison Krauss. Today that legacy continues as original members Raybon and Mike McGuire reunite to launch a new chapter in Shenandoah&#39\;s storied career. &quot\;We are really proud of the quality of the material that we have in our catalog and how it&#39\;s touched so many people&#39\;s lives\,&quot\; McGuire says. &quot\;As far as the future goes\, I&#39\;m expecting more of the same.&quot\;
LOCATION:Smoky Mountain Center for the Performing Arts 1028 Georgia Road Franklin\, NC 28734
UID:e.256.69228
SEQUENCE:3
DTSTAMP:20260419T193625Z
URL:https://members.visitblairsvillega.com/events/details/shenandoah-69228
END:VEVENT

END:VCALENDAR
