BEGIN:VCALENDAR
VERSION:2.0
PRODID:-//ChamberMaster//Event Calendar 2.0//EN
METHOD:PUBLISH
X-PUBLISHED-TTL:P3D
REFRESH-INTERVAL:P3D
CALSCALE:GREGORIAN
BEGIN:VEVENT
DTSTART:20170924T180000Z
DTEND:20170924T190000Z
X-MICROSOFT-CDO-ALLDAYEVENT:FALSE
SUMMARY:Shining the Light: Engaging the Church in the Battle Against Human Trafficking
DESCRIPTION:First United Methodist Church will be hosting Deborah Pohlston - A story of rescue and redemption. Will be held in the church sanctuary.
X-ALT-DESC;FMTTYPE=text/html:First United Methodist Church will be hosting Deborah Pohlston - A story of rescue and redemption. Will be held in the church sanctuary.
LOCATION:FIrst United Methodist Church of Union County
UID:e.256.75630
SEQUENCE:3
DTSTAMP:20260419T180206Z
URL:https://members.visitblairsvillega.com/events/details/shining-the-light-engaging-the-church-in-the-battle-against-human-trafficking-75630
END:VEVENT

END:VCALENDAR
