BEGIN:VCALENDAR
VERSION:2.0
PRODID:-//ChamberMaster//Event Calendar 2.0//EN
METHOD:PUBLISH
X-PUBLISHED-TTL:P3D
REFRESH-INTERVAL:P3D
CALSCALE:GREGORIAN
BEGIN:VEVENT
DTSTART:20170924T180000Z
DTEND:20170924T190000Z
X-MICROSOFT-CDO-ALLDAYEVENT:FALSE
SUMMARY:Shining the Light on Human Trafficking
DESCRIPTION:FUMC will host Deborah Polston as she brings her presentation\, Shining the Light\, to Georgia. Learn how the Church is engaging in the battle against human trafficking. Mrs. Polston is the former Florida Human Trafficking Advocate for Govenor Rick Scott\, and is wife of FL Supreme Court Justice\, Ricky Polston. She also shares her adoption story of bringing into their family of 4 biological daughters\, a sibling group of six brothers who were rescued by the state. No fee or reservation needed.
X-ALT-DESC;FMTTYPE=text/html:FUMC will host Deborah Polston as she brings her presentation\, Shining the Light\, to Georgia. Learn how the Church is engaging in the battle against human trafficking. Mrs. Polston is the former Florida Human Trafficking Advocate for Govenor Rick Scott\, and is wife of FL Supreme Court Justice\, Ricky Polston. She also shares her adoption story of bringing into their family of 4 biological daughters\, a sibling group of six brothers who were rescued by the state. No fee or reservation needed.
LOCATION:FUMC is located at 938 Highway 515 across from Meeks Park in Blairsville\, GA.
UID:e.256.76109
SEQUENCE:3
DTSTAMP:20260419T192540Z
URL:https://members.visitblairsvillega.com/events/details/shining-the-light-on-human-trafficking-76109
END:VEVENT

END:VCALENDAR
