BEGIN:VCALENDAR
VERSION:2.0
PRODID:-//ChamberMaster//Event Calendar 2.0//EN
METHOD:PUBLISH
X-PUBLISHED-TTL:P3D
REFRESH-INTERVAL:P3D
CALSCALE:GREGORIAN
BEGIN:VEVENT
DTSTART:20161222T220000Z
DTEND:20161223T010000Z
X-MICROSOFT-CDO-ALLDAYEVENT:FALSE
SUMMARY:Shop Late at Rustic Mountain Decor!
DESCRIPTION:Shop at our new store in the Hillcrest Plaza during our extended hours for special appreciation savings!\n\nBuy 1-Get 1 @ 1/2 price on Select Items & 30% on Seasonal Decor!\n\n\n\n Light appetizers & beverages will be served as you browse our locally handcrafted furniture including barn wood\, cedar and pine benches\, swings\, coffee\, end & sofa tables\, unique accent pieces like tobacco stick plant stands\, locust stick shelves\, seasonal home decor & gifts to put that finishing touch on your home!
X-ALT-DESC;FMTTYPE=text/html:<span style="font-family:comic sans ms">Shop at our new store in the Hillcrest Plaza during our extended hours for <u>special appreciation savings</u>!<br />\n<span class="marker"><strong>Buy 1-Get 1 @ 1/2 price on Select Items &amp\; 30% on Seasonal Decor!</strong></span></span><br />\n<br />\n&nbsp\;<span style="font-family:comic sans ms"><strong>Light appetizers &amp\; beverages will be served</strong> as you browse our locally handcrafted furniture including barn wood\, cedar and pine benches\, swings\, coffee\, end &amp\; sofa tables\, unique accent pieces like tobacco stick plant stands\, locust stick shelves\, seasonal home decor &amp\; gifts to put that finishing touch on your home!</span>\n<div style="text-align: center\;">&nbsp\;</div>\n
LOCATION:294 Hwy. 515-Suite A in the Hillcrest Plaza in Blairsville\, GA 30512
UID:e.256.60692
SEQUENCE:3
DTSTAMP:20260420T093527Z
URL:https://members.visitblairsvillega.com/events/details/shop-late-at-rustic-mountain-decor-60692
END:VEVENT

END:VCALENDAR
