BEGIN:VCALENDAR
VERSION:2.0
PRODID:-//ChamberMaster//Event Calendar 2.0//EN
METHOD:PUBLISH
X-PUBLISHED-TTL:P3D
REFRESH-INTERVAL:P3D
CALSCALE:GREGORIAN
BEGIN:VEVENT
DTSTART:20150724T233000Z
DTEND:20150725T013000Z
X-MICROSOFT-CDO-ALLDAYEVENT:FALSE
SUMMARY:Shrek\, the Broadway Musical
DESCRIPTION:Based on the Oscar-winning DreamWorks Animation film\, Shrek The Musical is a Tony Award-winning fairy tale adventure featuring all new songs and a sidesplitting story. "Once upon a time\, there was a little ogre named Shrek..." And thus begins the tale of an unlikely hero who finds himself on a life-changing journey alongside a wisecracking Donkey and a feisty princess who resists her rescue. Throw in a short tempered bad guy\, a cookie with an attitude\, and over a dozen other fairy tale misfits\, and you've got the kind of mess that calls for a real hero and luckily\, there's one on hand... his name is Shrek. Presented by the Overlook Theatre Company
X-ALT-DESC;FMTTYPE=text/html:Based on the Oscar-winning DreamWorks Animation film\, Shrek The Musical is a Tony Award-winning fairy tale adventure featuring all new songs and a sidesplitting story. &quot\;Once upon a time\, there was a little ogre named Shrek...&quot\; And thus begins the tale of an unlikely hero who finds himself on a life-changing journey alongside a wisecracking Donkey and a feisty princess who resists her rescue. Throw in a short tempered bad guy\, a cookie with an attitude\, and over a dozen other fairy tale misfits\, and you&#39\;ve got the kind of mess that calls for a real hero and luckily\, there&#39\;s one on hand... his name is Shrek. Presented by the Overlook Theatre Company
LOCATION:Smoky Mountain Center for the Performing Arts 1028 Georgia Road Franklin\, NC 28734
UID:e.256.40408
SEQUENCE:3
DTSTAMP:20260423T151239Z
URL:https://members.visitblairsvillega.com/events/details/shrek-the-broadway-musical-07-24-2015-40408
END:VEVENT

END:VCALENDAR
