BEGIN:VCALENDAR
VERSION:2.0
PRODID:-//ChamberMaster//Event Calendar 2.0//EN
METHOD:PUBLISH
X-PUBLISHED-TTL:P3D
REFRESH-INTERVAL:P3D
CALSCALE:GREGORIAN
BEGIN:VEVENT
DTSTART:20171209T190000Z
DTEND:20171209T210000Z
X-MICROSOFT-CDO-ALLDAYEVENT:FALSE
SUMMARY:Silent Auction - Unity of Blairsville
DESCRIPTION:Are you looking for that perfect gift? Join us for Silent Auction. Handmade jewelry\, glass\, mosaics and local photography are just some of the amazing talents and gifts you will find.
X-ALT-DESC;FMTTYPE=text/html:Are you looking for that perfect gift? Join us for Silent Auction. Handmade jewelry\, glass\, mosaics and local photography are just some of the amazing talents and gifts you will find.
LOCATION:Unity of Blairsville 298 School Circle Blairsville\, GA
UID:e.256.77063
SEQUENCE:3
DTSTAMP:20260419T122127Z
URL:https://members.visitblairsvillega.com/events/details/silent-auction-unity-of-blairsville-77063
END:VEVENT

END:VCALENDAR
