BEGIN:VCALENDAR
VERSION:2.0
PRODID:-//ChamberMaster//Event Calendar 2.0//EN
METHOD:PUBLISH
X-PUBLISHED-TTL:P3D
REFRESH-INTERVAL:P3D
CALSCALE:GREGORIAN
BEGIN:VEVENT
DTSTART:20170923T230000Z
DTEND:20170924T010000Z
X-MICROSOFT-CDO-ALLDAYEVENT:FALSE
SUMMARY:Silver Ring Thing Youth Rally
DESCRIPTION:Silver Ring Thing is a radical response to cultures view of love and relationships. Through community-wide out reach events and resources\, we seek to defy the meet up\, hook up\, break up culture up today and inspire teams to a pure life.  For information about the Silver Ring Thing  presenters check out their website at silverringthing.com
X-ALT-DESC;FMTTYPE=text/html:&nbsp\;Silver Ring Thing is a radical response to cultures view of love and relationships. Through community-wide out reach events and resources\, we seek to defy the meet up\, hook up\, break up culture up today and inspire teams to a pure life. &nbsp\;For information about the Silver Ring Thing &nbsp\;presenters check out their website at silverringthing.com
LOCATION:Union County Schools Fine Arts Center 926 Panther Outlook\, Blairsville
UID:e.256.75390
SEQUENCE:3
DTSTAMP:20260419T175241Z
URL:https://members.visitblairsvillega.com/events/details/silver-ring-thing-youth-rally-75390
END:VEVENT

END:VCALENDAR
