BEGIN:VCALENDAR
VERSION:2.0
PRODID:-//ChamberMaster//Event Calendar 2.0//EN
METHOD:PUBLISH
X-PUBLISHED-TTL:P3D
REFRESH-INTERVAL:P3D
CALSCALE:GREGORIAN
BEGIN:VEVENT
DTSTART:20161113T150000Z
DTEND:20161113T170000Z
X-MICROSOFT-CDO-ALLDAYEVENT:FALSE
SUMMARY:Singing - Echoes of Mercy at Fairview Baptist Church
DESCRIPTION:Echoes of Mercy (from Anderson\, SC) will be singing Sunday Morning November 13th @ 10am.\n\nwww.echoesofmercy3.com
X-ALT-DESC;FMTTYPE=text/html:Echoes of Mercy (from Anderson\, SC)&nbsp\;will be singing Sunday Morning November 13th&nbsp\;@ 10am.<br />\n<a href="http://www.echoesofmercy3.com">www.echoesofmercy3.com</a><br />\n&nbsp\;
LOCATION:Fairview Baptist Church\, Blairsville GA
UID:e.256.59726
SEQUENCE:3
DTSTAMP:20260420T131748Z
URL:https://members.visitblairsvillega.com/events/details/singing-echoes-of-mercy-at-fairview-baptist-church-59726
END:VEVENT

END:VCALENDAR
