BEGIN:VCALENDAR
VERSION:2.0
PRODID:-//ChamberMaster//Event Calendar 2.0//EN
METHOD:PUBLISH
X-PUBLISHED-TTL:P3D
REFRESH-INTERVAL:P3D
CALSCALE:GREGORIAN
BEGIN:VEVENT
DTSTART:20140711T223000Z
DTEND:20140712T003000Z
X-MICROSOFT-CDO-ALLDAYEVENT:FALSE
SUMMARY:Sip and Scribble Drawing Class at Hightower Creek Vineyards
DESCRIPTION:Sip and Scribble Drawing Class\n\nJoin Hightower Creek Vineyards and The Scribble Studio on Friday\, July 11th from 6:30pm until 8:30 pm for an evening of art\, wine\, and fun! Enjoy the sunset on the deck while learning the finer points of chalk art. Your $25 ticket includes a glass of wine\, an 8x10 vintage chalkboard\, and a chalk class kit. Call to reserve - only 25 seats available!
X-ALT-DESC;FMTTYPE=text/html:<div>Sip and Scribble Drawing Class</div>\n\n<div>Join Hightower Creek Vineyards and The Scribble Studio on Friday\, July 11th from 6:30pm until 8:30 pm for an evening of art\, wine\, and fun! Enjoy the sunset on the deck while learning the finer points of chalk art. Your $25 ticket includes a glass of wine\, an 8x10 vintage chalkboard\, and a chalk class kit. Call to reserve - only 25 seats available!</div>\n
LOCATION:7150 Canaan Drive Hiawassee\, GA 30546
UID:e.256.24865
SEQUENCE:3
DTSTAMP:20260424T091842Z
URL:https://members.visitblairsvillega.com/events/details/sip-and-scribble-drawing-class-at-hightower-creek-vineyards-07-11-2014-24865
END:VEVENT

END:VCALENDAR
