BEGIN:VCALENDAR
VERSION:2.0
PRODID:-//ChamberMaster//Event Calendar 2.0//EN
METHOD:PUBLISH
X-PUBLISHED-TTL:P3D
REFRESH-INTERVAL:P3D
CALSCALE:GREGORIAN
BEGIN:VEVENT
DTSTART:20170821T150000Z
DTEND:20170821T210000Z
X-MICROSOFT-CDO-ALLDAYEVENT:FALSE
SUMMARY:Sip\, Sit\, and Watch the Eclipse
DESCRIPTION:Please join us for a Sip\, Sit\, and WATCH THE ECLIPSE party on Monday\, August 21st from 11am-5pm. A special package is available for purchase that includes a commemorative glass (filled with wine)\, and eclipse viewing glasses\, while they last. \n\nHamburgers and hotdogs will also be available for purchase. \n\nBring a blanket or lawn chair and enjoy this once in a lifetime experience. Space is limited\, so please RSVP us at odomspringsvineyards@gmail.com or 706-745-3094
X-ALT-DESC;FMTTYPE=text/html:Please join us for a Sip\, Sit\, and WATCH THE ECLIPSE party on Monday\, August 21st from 11am-5pm. A special package is available for purchase that includes a commemorative glass (filled with wine)\, and eclipse viewing glasses\, while they last.&nbsp\;<br />\nHamburgers and hotdogs will also be available for purchase.&nbsp\;<br />\nBring a blanket or lawn chair and enjoy this once in a lifetime experience. Space is limited\, so please RSVP us at odomspringsvineyards@gmail.com or 706-745-3094
LOCATION:Odom Springs Vineyards Directions from Blairsville: 515 West to Nottely Dam Road\, North to Odom Road\, West to Winery at the end of Odom Road #637
UID:e.256.75619
SEQUENCE:3
DTSTAMP:20260419T193625Z
URL:https://members.visitblairsvillega.com/events/details/sip-sit-and-watch-the-eclipse-75619
END:VEVENT

END:VCALENDAR
