BEGIN:VCALENDAR
VERSION:2.0
PRODID:-//ChamberMaster//Event Calendar 2.0//EN
METHOD:PUBLISH
X-PUBLISHED-TTL:P3D
REFRESH-INTERVAL:P3D
CALSCALE:GREGORIAN
BEGIN:VEVENT
DTSTART:20140908T140000Z
DTEND:20140908T180000Z
X-MICROSOFT-CDO-ALLDAYEVENT:FALSE
SUMMARY:Sisters in Faith
DESCRIPTION:This group of women meets each month to discuss how God is working in our lives. We seek to break down the walls that separate Christians from different faith traditions. This month our topic is Conversion - how to have one every day. Join us for great conversation\, delicious food\, and uplifting prayer.
X-ALT-DESC;FMTTYPE=text/html:This group of women meets each month to discuss how God is working in our lives. We seek to break down the walls that separate Christians from different faith traditions. This month our topic is Conversion - how to have one every day. Join us for great conversation\, delicious food\, and uplifting prayer.
LOCATION:St. Francis of Assisi Catholic Church 3717 Hwy 515 East Blairsville\, GA 30512
UID:e.256.27277
SEQUENCE:3
DTSTAMP:20260424T062310Z
URL:https://members.visitblairsvillega.com/events/details/sisters-in-faith-09-08-2014-27277
END:VEVENT

END:VCALENDAR
