BEGIN:VCALENDAR
VERSION:2.0
PRODID:-//ChamberMaster//Event Calendar 2.0//EN
METHOD:PUBLISH
X-PUBLISHED-TTL:P3D
REFRESH-INTERVAL:P3D
CALSCALE:GREGORIAN
BEGIN:VEVENT
DTSTART:20131216T150000Z
DTEND:20131216T190000Z
X-MICROSOFT-CDO-ALLDAYEVENT:FALSE
SUMMARY:Sisters in Faith
DESCRIPTION:This group of women meets each month to talk about how God is working in their lives. They come from many different denominations to share a common love for God. This month's topic is GIFTS - what are the gifts God has given you and how are you using those gifts.
X-ALT-DESC;FMTTYPE=text/html:This group of women meets each month to talk about how God is working in their lives. They come from many different denominations to share a common love for God. This month&#39\;s topic is GIFTS - what are the gifts God has given you and how are you using those gifts. 
LOCATION:St. Francis of Assisi Catholic Church\, 3717 Hwy 515 East\, Blairsville
UID:e.256.20564
SEQUENCE:3
DTSTAMP:20260424T211925Z
URL:https://members.visitblairsvillega.com/events/details/sisters-in-faith-12-16-2013-20564
END:VEVENT

END:VCALENDAR
