BEGIN:VCALENDAR
VERSION:2.0
PRODID:-//ChamberMaster//Event Calendar 2.0//EN
METHOD:PUBLISH
X-PUBLISHED-TTL:P3D
REFRESH-INTERVAL:P3D
CALSCALE:GREGORIAN
BEGIN:VEVENT
DTSTART:20140705T140000Z
DTEND:20140705T210000Z
X-MICROSOFT-CDO-ALLDAYEVENT:FALSE
SUMMARY:Sizzling Summer Sale - Hi Country Shops
DESCRIPTION:Most Vendors will be offering 10%-15% off.\n\n\n\nJoin us for some great deals.
X-ALT-DESC;FMTTYPE=text/html:Most Vendors will be offering 10%-15% off.<br />\n<br />\nJoin us for some great deals.
LOCATION:Hi Country Shops
UID:e.256.24905
SEQUENCE:3
DTSTAMP:20260424T092416Z
URL:https://members.visitblairsvillega.com/events/details/sizzling-summer-sale-hi-country-shops-07-05-2014-24905
END:VEVENT

END:VCALENDAR
