BEGIN:VCALENDAR
VERSION:2.0
PRODID:-//ChamberMaster//Event Calendar 2.0//EN
METHOD:PUBLISH
X-PUBLISHED-TTL:P3D
REFRESH-INTERVAL:P3D
CALSCALE:GREGORIAN
BEGIN:VEVENT
DTSTART;VALUE=DATE:20140831
DTEND;VALUE=DATE:20140901
TRANSP:TRANSPARENT
X-MICROSOFT-CDO-ALLDAYEVENT:TRUE
SUMMARY:Sky High Hot Air Balloon Festival
DESCRIPTION:Don't miss the \n\nSky High Hot Air Balloon Festival\n\nLabor Day Weekend\, August 29 - 31\, 2014\n\nFriday and Sunday Night Balloon Glow*\n\nTethered Rides and Launches*\n\nUSA National Wakesurf Championships\n\nClassic Car Show\n\nLive Music And More!\n\nFor a complete schedule of events please visit our website: www.callawaygardens.com
X-ALT-DESC;FMTTYPE=text/html:<em>Don&#39\;t miss the </em><br />\n<strong>Sky High Hot Air Balloon Festival</strong><br />\nLabor Day Weekend\, August 29 - 31\, 2014<br />\nFriday and Sunday Night Balloon Glow*<br />\nTethered Rides and Launches*<br />\nUSA National Wakesurf Championships<br />\nClassic Car Show<br />\nLive Music And More!<br />\n<u><strong>For a complete schedule of events please visit our website: </strong></u>www.callawaygardens.com
LOCATION:Callaway Gardens Pine Mountain\, GA
UID:e.256.25541
SEQUENCE:3
DTSTAMP:20260424T074104Z
URL:https://members.visitblairsvillega.com/events/details/sky-high-hot-air-balloon-festival-08-31-2014-25541
END:VEVENT

END:VCALENDAR
