BEGIN:VCALENDAR
VERSION:2.0
PRODID:-//ChamberMaster//Event Calendar 2.0//EN
METHOD:PUBLISH
X-PUBLISHED-TTL:P3D
REFRESH-INTERVAL:P3D
CALSCALE:GREGORIAN
BEGIN:VEVENT
DTSTART:20160914T130000Z
DTEND:20160914T150000Z
X-MICROSOFT-CDO-ALLDAYEVENT:FALSE
SUMMARY:Small Business Finance Forum
DESCRIPTION:Learn about alternatives for needed capital. Celtic Bank sponsors this forum which will include a panel of experts sharing their advice. A question and answer session will be included.
X-ALT-DESC;FMTTYPE=text/html:Learn about alternatives for needed capital. Celtic Bank sponsors this forum which will include a panel of experts sharing their advice. A question and answer session will be included.
LOCATION:Jackson EMC 1000 Dawsonville Hwy Gainesville\, Ga
UID:e.256.54487
SEQUENCE:3
DTSTAMP:20260420T144513Z
URL:https://members.visitblairsvillega.com/events/details/small-business-finance-forum-09-14-2016-54487
END:VEVENT

END:VCALENDAR
